BEGIN:VCALENDAR
PRODID:-//Tendenci - The Open Source AMS for Associations//Tendenci Codebase 12 MIMEDIR//EN
VERSION:2.0
METHOD:PUBLISH
BEGIN:VEVENT
DTSTAMP:20260421T212211Z
ORGANIZER:
DTSTART:20221027T040000Z
DTEND:20221027T060000Z
LOCATION:USS Yorktown- Patriots Point
TRANSP:OPAQUE
SEQUENCE:0
UID:uid963@portal.momsforliberty.org
DESCRIPTION:--- This iCal file does *NOT* confirm registration.\r\nEvent details subject to change. ---\r\nhttps://portal.momsforliberty.org/events/963/\r\n\r\nEvent Title: October Chapter Meeting\r\nStart Date / Time: Oct 26, 2022 23:00 PM US/Central\r\nLocation: USS Yorktown- Patriots Point\r\nSpeaker: Dr. James Linsday\r\nGoogle\r\nhttp://maps.google.com/maps?q=40+Patriots+Point+Road,Mt Pleasant,SC,29464\r\n\r\nForecast\nhttp://www.weather.com/weather/monthly/29464\r\n\r\nWe hope you can join us on October 26 on the USS Yorktown!  The meeting will take place in the air conditioned theater.  We will provide golf cart transportation to the ship from the parking lot if needed.  The cost is only $10 per person to help us cover some of the costs (check, cash, PayPal, or Venmo accepted at registration).\r\nUSS Yorktown\r\n40 Patriots Point Road\r\n \r\n6:00 p.m.- Social time- in the hanger in front of the theater\r\n6:30 p.m.- Meeting begins- Inside the theater \r\n \r\nWe have the pleasure of having keynote speaker Dr. James Lindsay, the Founder of New Disclosures, the author of six books, and a guest on Fox News, Glenn Beck, Joe Rogan and NPR.   \r\n \r\nDr. Lindsay was one of the speakers at the Moms for Liberty National Summit in Tampa this summer.  After I heard him speak at that event, I was determined to get him to Charleston to speak to us in person.   Just when you think you know everything about CRT and Gender Queer Theory, you will walk away with more knowledge on these topics and others, and more importantly, how to use this information to fight back!    \r\n \r\nM4L Charleston County School Board Candidates will also introduce themselves again.  We will be less than two weeks away from Election Day at that time, and remember,  Early Voting begins on October 24.  Let's give one last push and rally around these candidates at this meeting!  \r\n \r\nWe have a guest singer from Mount Pleasant, Isabella Ullo, that is currently a rising star in Nashville, Tennessee performing for us!  She will sing a patriotic song that is sure to fire you up to win back Charleston County in November!   \r\n --- This iCal file does *NOT* confirm registration.Event details subject to change. ---\r\n\r\n--- By Tendenci - The Open Source AMS for Associations ---\r\n
X-ALT-DESC;FMTTYPE=text/html:<div>--- This iCal file does *NOT* confirm registration.Event details subject to change. ---</div><h1>Event Title: October Chapter Meeting</h1><div>https://portal.momsforliberty.org/events/963/</div><br /><div>When: Oct 26, 2022 23:00 PM US/Central</div><div>Speaker: Dr. James Linsday</div><br />USS Yorktown- Patriots Point<br />40 Patriots Point Road<br />Mt Pleasant, SC 29464<br /><div>http://maps.google.com/maps?q=40+Patriots+Point+Road,Mt Pleasant,SC,29464</div><br /><div>Forecast: http://www.weather.com/weather/monthly/29464</div><br /><br /><div><p><span style="font-size: large\;">We hope you can join us on&nbsp\;</span><strong style="font-size: large\;">October 26</strong><span style="font-size: large\;">&nbsp\;on the&nbsp\;</span><strong style="font-size: large\;">USS Yorktown!</strong><span style="font-size: large\;">&nbsp\; The meeting will take place in the air conditioned theater.&nbsp\; We will provide golf cart transportation to the ship from the parking lot if needed.&nbsp\; The cost is only $10 per person to help us cover some of the costs (check, cash, PayPal, or Venmo accepted at registration).</span></p>
<div><span style="font-size: large\;"><strong>USS Yorktown</strong></span></div>
<div><span style="font-size: large\;"><strong>40 Patriots Point Road</strong></span></div>
<div>&nbsp\;</div>
<div><span style="font-size: large\;"><strong>6:00 p.m.</strong>- Social time- in the hanger in front of the theater</span></div>
<div><span style="font-size: large\;"><strong>6:30 p.m.</strong>- Meeting begins- Inside the theater&nbsp\;</span></div>
<div><span style="font-size: large\;">&nbsp\;</span></div>
<div><span style="font-size: large\;">We have the pleasure&nbsp\;of having keynote speaker&nbsp\;<strong><u>Dr. James Lindsay</u></strong>, the Founder of New Disclosures, the&nbsp\;author of six books, and a guest on Fox News, Glenn Beck, Joe Rogan and NPR. &nbsp\;&nbsp\;</span></div>
<div><span style="font-size: large\;">&nbsp\;</span></div>
<div><span style="font-size: large\;">Dr. Lindsay was one of the speakers at the Moms for Liberty National Summit in Tampa this summer.&nbsp\; After I heard him speak at&nbsp\;that event, I was determined to get him to Charleston to speak to us in person. &nbsp\; Just when you think you know everything about&nbsp\;<strong>CRT and Gender Queer Theory,</strong>&nbsp\;you will walk away with more knowledge on these topics and others, and more importantly, how to use this information to fight back! &nbsp\; &nbsp\;</span></div>
<div><span style="font-size: large\;">&nbsp\;</span></div>
<div><span style="font-size: large\;">M4L Charleston County School Board Candidates will also introduce themselves again.&nbsp\; We will be less than two weeks away from Election Day at that time,&nbsp\;and remember, &nbsp\;<strong><u>Early Voting begins on October 24</u></strong><u>.</u>&nbsp\;&nbsp\;Let's give one last push and rally around these candidates at this meeting! &nbsp\;</span></div>
<div><span style="font-size: large\;">&nbsp\;</span></div>
<div><span style="font-size: large\;">We have a guest singer from Mount Pleasant, Isabella Ullo, that is currently a rising star in Nashville, Tennessee performing for us!&nbsp\; She will sing a patriotic song that is sure to fire you up to win back Charleston County in November! &nbsp\;&nbsp\;</span></div>
<p>&nbsp\;</p></div><div>--- This iCal file does *NOT* confirm registration.Event details subject to change. ---</div><div>--- Tendenci&reg\; Software by <a href="https://www.tendenci.com">tendenci.com</a> - The Open Source AMS for Associations ---</div>
SUMMARY:October Chapter Meeting
PRIORITY:5
CLASS:PUBLIC
BEGIN:VALARM
TRIGGER:-PT30M
ACTION:DISPLAY
DESCRIPTION:Reminder
END:VALARM
END:VEVENT
END:VCALENDAR
