BEGIN:VCALENDAR
PRODID:-//Tendenci - The Open Source AMS for Associations//Tendenci Codebase 12 MIMEDIR//EN
VERSION:2.0
METHOD:PUBLISH
BEGIN:VEVENT
DTSTAMP:20260423T104409Z
ORGANIZER:
DTSTART:20221015T050000Z
DTEND:20221015T070000Z
LOCATION:American Polish Cultural Center
TRANSP:OPAQUE
SEQUENCE:0
UID:uid965@portal.momsforliberty.org
DESCRIPTION:--- This iCal file does *NOT* confirm registration.\r\nEvent details subject to change. ---\r\nhttps://portal.momsforliberty.org/events/965/\r\n\r\nEvent Title: Giving Parents a Voice Townhall\r\nStart Date / Time: Oct 15, 2022 00:00 AM Pacific/Easter\r\nLocation: American Polish Cultural Center\r\nGoogle\r\nhttp://maps.google.com/maps?q=2975+E+Maple+Rd,Troy,MI,48083\r\n\r\nForecast\nhttp://www.weather.com/weather/monthly/48083\r\n\r\nGet your questions answered and have your voice heard.\r\n \r\nAn honest conversation on the state of education in Michigan hosted by Moms for Liberty founders. \r\nHear from education leaders and get your questions answered. Invitations have been extended to Governor Whitmer, Governor Candidate Tudor Dixon, The Michigan State Board of Education Members and the House and Senate Education Committees. \r\n \r\n\r\nSPACE IS LIMITED\r\nRSVP today! Seating will be first come first served.--- This iCal file does *NOT* confirm registration.Event details subject to change. ---\r\n\r\n--- By Tendenci - The Open Source AMS for Associations ---\r\n
X-ALT-DESC;FMTTYPE=text/html:<div>--- This iCal file does *NOT* confirm registration.Event details subject to change. ---</div><h1>Event Title: Giving Parents a Voice Townhall</h1><div>https://portal.momsforliberty.org/events/965/</div><br /><div>When: Oct 15, 2022 00:00 AM Pacific/Easter</div><br />American Polish Cultural Center<br />2975 E Maple Rd<br />Troy, MI 48083<br /><div>http://maps.google.com/maps?q=2975+E+Maple+Rd,Troy,MI,48083</div><br /><div>Forecast: http://www.weather.com/weather/monthly/48083</div><br /><br /><div><p><strong>Get your questions answered and have your voice heard.</strong></p>
<p>&nbsp\;</p>
<p><em>An honest conversation on the state of education in Michigan hosted by Moms for Liberty founders.&nbsp\;</em></p>
<p><em>Hear from education leaders and get your questions answered.&nbsp\;Invitations have been extended to&nbsp\;Governor&nbsp\;Whitmer, Governor&nbsp\;Candidate&nbsp\;Tudor Dixon, The Michigan State Board of Education Members and the House and&nbsp\;Senate&nbsp\;Education Committees.&nbsp\;</em></p>
<p>&nbsp\;</p>
<hr />
<p><strong>SPACE IS LIMITED</strong></p>
<p>RSVP today! Seating will be first come first served.</p></div><div>--- This iCal file does *NOT* confirm registration.Event details subject to change. ---</div><div>--- Tendenci&reg\; Software by <a href="https://www.tendenci.com">tendenci.com</a> - The Open Source AMS for Associations ---</div>
SUMMARY:Giving Parents a Voice Townhall
PRIORITY:5
CLASS:PUBLIC
BEGIN:VALARM
TRIGGER:-PT30M
ACTION:DISPLAY
DESCRIPTION:Reminder
END:VALARM
END:VEVENT
END:VCALENDAR
