BEGIN:VCALENDAR
PRODID:-//Tendenci - The Open Source AMS for Associations//Tendenci Codebase 12 MIMEDIR//EN
VERSION:2.0
METHOD:PUBLISH
BEGIN:VEVENT
DTSTAMP:20260419T184829Z
ORGANIZER:
DTSTART:20221014T050000Z
DTEND:20221014T070000Z
LOCATION:
TRANSP:OPAQUE
SEQUENCE:0
UID:uid979@portal.momsforliberty.org
DESCRIPTION:--- This iCal file does *NOT* confirm registration.\r\nEvent details subject to change. ---\r\nhttps://portal.momsforliberty.org/events/979/\r\n\r\nEvent Title: D49 Board Meeting\r\nStart Date / Time: Oct 13, 2022 23:00 PM America/Denver\r\nLocation: \r\nGoogle\r\nhttp://maps.google.com/maps?q=3850+Pony+Tracks+Dr.,Colorado Springs,80922\r\n\r\nForecast\nhttp://www.weather.com/weather/monthly/80922\r\n\r\nDistrict 49 Board Meeting on October 13th at 3850 Pony Tracks Dr. at the Adminstration Building.--- This iCal file does *NOT* confirm registration.Event details subject to change. ---\r\n\r\n--- By Tendenci - The Open Source AMS for Associations ---\r\n
X-ALT-DESC;FMTTYPE=text/html:<div>--- This iCal file does *NOT* confirm registration.Event details subject to change. ---</div><h1>Event Title: D49 Board Meeting</h1><div>https://portal.momsforliberty.org/events/979/</div><br /><div>When: Oct 13, 2022 23:00 PM America/Denver</div><br /><br />3850 Pony Tracks Dr.<br /> 80922<br /><div>http://maps.google.com/maps?q=3850+Pony+Tracks+Dr.,Colorado Springs,80922</div><br /><div>Forecast: http://www.weather.com/weather/monthly/80922</div><br /><br /><div><p>District 49 Board Meeting on October 13th at 3850 Pony Tracks Dr. at the Adminstration Building.</p></div><div>--- This iCal file does *NOT* confirm registration.Event details subject to change. ---</div><div>--- Tendenci&reg\; Software by <a href="https://www.tendenci.com">tendenci.com</a> - The Open Source AMS for Associations ---</div>
SUMMARY:D49 Board Meeting
PRIORITY:5
CLASS:PUBLIC
BEGIN:VALARM
TRIGGER:-PT30M
ACTION:DISPLAY
DESCRIPTION:Reminder
END:VALARM
END:VEVENT
END:VCALENDAR
