BEGIN:VCALENDAR
PRODID:-//Tendenci - The Open Source AMS for Associations//Tendenci Codebase 12 MIMEDIR//EN
VERSION:2.0
METHOD:PUBLISH
BEGIN:VEVENT
DTSTAMP:20260425T225612Z
ORGANIZER:
DTSTART:20221102T033000Z
DTEND:20221102T050000Z
LOCATION:The Well Church - Southtowns Campus
TRANSP:OPAQUE
SEQUENCE:0
UID:uid992@portal.momsforliberty.org
DESCRIPTION:--- This iCal file does *NOT* confirm registration.\r\nEvent details subject to change. ---\r\nhttps://portal.momsforliberty.org/events/992/\r\n\r\nEvent Title: November Meeting\r\nStart Date / Time: Nov 01, 2022 23:30 PM US/Eastern\r\nLocation: The Well Church - Southtowns Campus\r\nGoogle\r\nhttp://maps.google.com/maps?q=2784+Seneca+Street,West Seneca,NY,14224\r\n\r\nForecast\nhttp://www.weather.com/weather/monthly/14224\r\n\r\nJoin us for our monthly meeting!  Moms, Dads, Aunts/Uncles, Grandparents and community members are welcome to attend. Members and guests are welcome.\r\nMeeting is 630-8pm. Check in starts at 615pm. Shirts will be available for purchase also $20-$45.\r\nThis month in lieu of a speaker, we will have a "working meeting" where we break into committee groups and/or districts to create action plans!\r\nPlease Note - NO DECEMBER MEETING\r\n --- This iCal file does *NOT* confirm registration.Event details subject to change. ---\r\n\r\n--- By Tendenci - The Open Source AMS for Associations ---\r\n
X-ALT-DESC;FMTTYPE=text/html:<div>--- This iCal file does *NOT* confirm registration.Event details subject to change. ---</div><h1>Event Title: November Meeting</h1><div>https://portal.momsforliberty.org/events/992/</div><br /><div>When: Nov 01, 2022 23:30 PM US/Eastern</div><br />The Well Church - Southtowns Campus<br />2784 Seneca Street<br />West Seneca, NY 14224<br /><div>http://maps.google.com/maps?q=2784+Seneca+Street,West Seneca,NY,14224</div><br /><div>Forecast: http://www.weather.com/weather/monthly/14224</div><br /><br /><div><p>Join us for our monthly meeting!&nbsp\; Moms, Dads, Aunts/Uncles, Grandparents and community members are welcome to attend. Members and guests are welcome.</p>
<p>Meeting is 630-8pm. Check in starts at 615pm. Shirts will be available for purchase also $20-$45.</p>
<p>This month in lieu of a speaker, we will have a "working meeting" where we break into committee groups and/or districts to create action plans!</p>
<p>Please Note - NO DECEMBER MEETING</p>
<p>&nbsp\;</p></div><div>--- This iCal file does *NOT* confirm registration.Event details subject to change. ---</div><div>--- Tendenci&reg\; Software by <a href="https://www.tendenci.com">tendenci.com</a> - The Open Source AMS for Associations ---</div>
SUMMARY:November Meeting
PRIORITY:5
CLASS:PUBLIC
BEGIN:VALARM
TRIGGER:-PT30M
ACTION:DISPLAY
DESCRIPTION:Reminder
END:VALARM
END:VEVENT
END:VCALENDAR
